BEGIN:VCALENDAR
VERSION:2.0
PRODID:-//TAGALOO - ECPv4.3.2//NONSGML v1.0//EN
CALSCALE:GREGORIAN
METHOD:PUBLISH
X-WR-CALNAME:TAGALOO
X-ORIGINAL-URL:https://www.tagaloo.com
X-WR-CALDESC:Events for TAGALOO
BEGIN:VEVENT
DTSTART;TZID=America/New_York:20150827T163000
DTEND;TZID=America/New_York:20150827T180059
DTSTAMP:20260422T204403
CREATED:20150630T173214Z
LAST-MODIFIED:20150630T173214Z
UID:3762-1440693000-1440698459@www.tagaloo.com
SUMMARY:Sewing (Rolling Admission)
DESCRIPTION:Learn the fundamentals of sewing!\n\nWe will teach you your way around a sewing machine\, the different stitches and what they are used for\, and new sewing tools designed to make things a little easier for you.  Be creative in this sewing class.  We will get funky with fabric while using basic sewing and stitching techniques. Whimsical projects are planned for this creative class.\n\nAll materials are included.  This is a 4-Week Session Class.
URL:https://www.tagaloo.com/event/sewing-rolling-admission-242
LOCATION:585 Frost Avenue\, Warrenton\, VA\, 20186\, United States
END:VEVENT
END:VCALENDAR