BEGIN:VCALENDAR
VERSION:2.0
PRODID:-//TAGALOO - ECPv4.3.2//NONSGML v1.0//EN
CALSCALE:GREGORIAN
METHOD:PUBLISH
X-WR-CALNAME:TAGALOO
X-ORIGINAL-URL:https://www.tagaloo.com
X-WR-CALDESC:Events for TAGALOO
BEGIN:VEVENT
DTSTART;TZID=America/New_York:20150826T163000
DTEND;TZID=America/New_York:20150826T180059
DTSTAMP:20260423T002457
CREATED:20150630T010239Z
LAST-MODIFIED:20150630T010239Z
UID:3752-1440606600-1440612059@www.tagaloo.com
SUMMARY:Sewing (Rolling Admission)
DESCRIPTION:Learn the fundamentals of sewing!\n\nWe will teach you your way around a sewing machine\, the different stitches and what they are used for\, and new sewing tools designed to make things a little easier for you.  Be creative in this sewing class.  We will get funky with fabric while using basic sewing and stitching techniques. Whimsical projects are planned for this creative class.\n\nAll materials are included.  This is a 4-Week Session Class.
URL:https://www.tagaloo.com/event/sewing-rolling-admission-237
LOCATION:585 Frost Avenue\, Warrenton\, VA\, 20186\, United States
END:VEVENT
BEGIN:VEVENT
DTSTART;TZID=America/New_York:20150826T180000
DTEND;TZID=America/New_York:20150826T193059
DTSTAMP:20260423T002457
CREATED:20150630T010338Z
LAST-MODIFIED:20150630T010338Z
UID:3754-1440612000-1440617459@www.tagaloo.com
SUMMARY:Sewing (Rolling Admission)
DESCRIPTION:Learn the fundamentals of sewing!\n\nWe will teach you your way around a sewing machine\, the different stitches and what they are used for\, and new sewing tools designed to make things a little easier for you.  Be creative in this sewing class.  We will get funky with fabric while using basic sewing and stitching techniques. Whimsical projects are planned for this creative class.\n\nAll materials are included.  This is a 4-Week Session Class.
URL:https://www.tagaloo.com/event/sewing-rolling-admission-238
LOCATION:585 Frost Avenue\, Warrenton\, VA\, 20186\, United States
END:VEVENT
END:VCALENDAR