BEGIN:VCALENDAR
VERSION:2.0
PRODID:-//TAGALOO - ECPv4.3.2//NONSGML v1.0//EN
CALSCALE:GREGORIAN
METHOD:PUBLISH
X-WR-CALNAME:TAGALOO
X-ORIGINAL-URL:https://www.tagaloo.com
X-WR-CALDESC:Events for TAGALOO
BEGIN:VEVENT
DTSTART;TZID=America/New_York:20150821T160000
DTEND;TZID=America/New_York:20150821T173059
DTSTAMP:20260423T172541
CREATED:20150630T173918Z
LAST-MODIFIED:20150630T173918Z
UID:3772-1440172800-1440178259@www.tagaloo.com
SUMMARY:Sewing (Rolling Admission)
DESCRIPTION:Learn the fundamentals of sewing!\n\nWe will teach you your way around a sewing machine\, the different stitches and what they are used for\, and new sewing tools designed to make things a little easier for you.  Be creative in this sewing class.  We will get funky with fabric while using basic sewing and stitching techniques. Whimsical projects are planned for this creative class.\n\nAll materials are included.  This is a 4-Week Session Class.
URL:https://www.tagaloo.com/event/sewing-rolling-admission-247
LOCATION:585 Frost Avenue\, Warrenton\, VA\, 20186\, United States
END:VEVENT
BEGIN:VEVENT
DTSTART;TZID=America/New_York:20150821T170000
DTEND;TZID=America/New_York:20150821T183059
DTSTAMP:20260423T172541
CREATED:20150630T174007Z
LAST-MODIFIED:20150630T174007Z
UID:3774-1440176400-1440181859@www.tagaloo.com
SUMMARY:Sewing (Rolling Admission)
DESCRIPTION:Learn the fundamentals of sewing!\n\nWe will teach you your way around a sewing machine\, the different stitches and what they are used for\, and new sewing tools designed to make things a little easier for you.  Be creative in this sewing class.  We will get funky with fabric while using basic sewing and stitching techniques. Whimsical projects are planned for this creative class.\n\nAll materials are included.  This is a 4-Week Session Class.
URL:https://www.tagaloo.com/event/sewing-rolling-admission-248
LOCATION:585 Frost Avenue\, Warrenton\, VA\, 20186\, United States
END:VEVENT
BEGIN:VEVENT
DTSTART;TZID=America/New_York:20150821T180000
DTEND;TZID=America/New_York:20150821T193059
DTSTAMP:20260423T172541
CREATED:20150629T190456Z
LAST-MODIFIED:20150629T190456Z
UID:3717-1440180000-1440185459@www.tagaloo.com
SUMMARY:Lego Club
DESCRIPTION:Lego Club – We have been gathering Legos for quite some time. I think we are ready to start constructing. What will your imagination build? Come explore the world of LEGOS!\n\nThe club will meet once a month on the third Friday.
URL:https://www.tagaloo.com/event/lego-club-10
LOCATION:585 Frost Avenue\, Warrenton\, VA\, 20186\, United States
END:VEVENT
END:VCALENDAR