BEGIN:VCALENDAR
VERSION:2.0
PRODID:-//TAGALOO - ECPv4.3.2//NONSGML v1.0//EN
CALSCALE:GREGORIAN
METHOD:PUBLISH
X-WR-CALNAME:TAGALOO
X-ORIGINAL-URL:https://www.tagaloo.com
X-WR-CALDESC:Events for TAGALOO
BEGIN:VEVENT
DTSTART;TZID=America/New_York:20150814T120000
DTEND;TZID=America/New_York:20150814T160059
DTSTAMP:20260424T073943
CREATED:20150321T052937Z
LAST-MODIFIED:20150321T052937Z
UID:3435-1439553600-1439568059@www.tagaloo.com
SUMMARY:Camp Tagaloo
DESCRIPTION:Summer Camp- An extended camp program from 12:00 to 4:00 each day. You provide lunch\, we keep your camper busy and well-cared for the rest of the day!\n\nAll ages welcome
URL:https://www.tagaloo.com/event/camp-tagaloo-90
LOCATION:585 Frost Avenue\, Warrenton\, VA\, 20186\, United States
END:VEVENT
BEGIN:VEVENT
DTSTART;TZID=America/New_York:20150814T160000
DTEND;TZID=America/New_York:20150814T173059
DTSTAMP:20260424T073943
CREATED:20150630T173606Z
LAST-MODIFIED:20150630T173606Z
UID:3768-1439568000-1439573459@www.tagaloo.com
SUMMARY:Sewing (Rolling Admission)
DESCRIPTION:Learn the fundamentals of sewing!\n\nWe will teach you your way around a sewing machine\, the different stitches and what they are used for\, and new sewing tools designed to make things a little easier for you.  Be creative in this sewing class.  We will get funky with fabric while using basic sewing and stitching techniques. Whimsical projects are planned for this creative class.\n\nAll materials are included.  This is a 4-Week Session Class.
URL:https://www.tagaloo.com/event/sewing-rolling-admission-245
LOCATION:585 Frost Avenue\, Warrenton\, VA\, 20186\, United States
END:VEVENT
BEGIN:VEVENT
DTSTART;TZID=America/New_York:20150814T170000
DTEND;TZID=America/New_York:20150814T183059
DTSTAMP:20260424T073943
CREATED:20150630T173716Z
LAST-MODIFIED:20150630T173716Z
UID:3770-1439571600-1439577059@www.tagaloo.com
SUMMARY:Sewing (Rolling Admission)
DESCRIPTION:Learn the fundamentals of sewing!\n\nWe will teach you your way around a sewing machine\, the different stitches and what they are used for\, and new sewing tools designed to make things a little easier for you.  Be creative in this sewing class.  We will get funky with fabric while using basic sewing and stitching techniques. Whimsical projects are planned for this creative class.\n\nAll materials are included.  This is a 4-Week Session Class.
URL:https://www.tagaloo.com/event/sewing-rolling-admission-246
LOCATION:585 Frost Avenue\, Warrenton\, VA\, 20186\, United States
END:VEVENT
END:VCALENDAR