BEGIN:VCALENDAR
VERSION:2.0
PRODID:-//TAGALOO - ECPv4.3.2//NONSGML v1.0//EN
CALSCALE:GREGORIAN
METHOD:PUBLISH
X-WR-CALNAME:TAGALOO
X-ORIGINAL-URL:https://www.tagaloo.com
X-WR-CALDESC:Events for TAGALOO
BEGIN:VEVENT
DTSTART;TZID=America/New_York:20150812T120000
DTEND;TZID=America/New_York:20150812T160059
DTSTAMP:20260424T104345
CREATED:20150321T052738Z
LAST-MODIFIED:20150321T052738Z
UID:3431-1439380800-1439395259@www.tagaloo.com
SUMMARY:Camp Tagaloo
DESCRIPTION:Summer Camp- An extended camp program from 12:00 to 4:00 each day. You provide lunch\, we keep your camper busy and well-cared for the rest of the day!\n\nAll ages welcome
URL:https://www.tagaloo.com/event/camp-tagaloo-88
LOCATION:585 Frost Avenue\, Warrenton\, VA\, 20186\, United States
END:VEVENT
BEGIN:VEVENT
DTSTART;TZID=America/New_York:20150812T163000
DTEND;TZID=America/New_York:20150812T180059
DTSTAMP:20260424T104345
CREATED:20150630T005740Z
LAST-MODIFIED:20150630T005740Z
UID:3744-1439397000-1439402459@www.tagaloo.com
SUMMARY:Sewing (Rolling Admission)
DESCRIPTION:Learn the fundamentals of sewing!\n\nWe will teach you your way around a sewing machine\, the different stitches and what they are used for\, and new sewing tools designed to make things a little easier for you.  Be creative in this sewing class.  We will get funky with fabric while using basic sewing and stitching techniques. Whimsical projects are planned for this creative class.\n\nAll materials are included.  This is a 4-Week Session Class.
URL:https://www.tagaloo.com/event/sewing-rolling-admission-233
LOCATION:585 Frost Avenue\, Warrenton\, VA\, 20186\, United States
END:VEVENT
BEGIN:VEVENT
DTSTART;TZID=America/New_York:20150812T180000
DTEND;TZID=America/New_York:20150812T193059
DTSTAMP:20260424T104345
CREATED:20150630T005838Z
LAST-MODIFIED:20150630T005838Z
UID:3746-1439402400-1439407859@www.tagaloo.com
SUMMARY:Sewing (Rolling Admission)
DESCRIPTION:Learn the fundamentals of sewing!\n\nWe will teach you your way around a sewing machine\, the different stitches and what they are used for\, and new sewing tools designed to make things a little easier for you.  Be creative in this sewing class.  We will get funky with fabric while using basic sewing and stitching techniques. Whimsical projects are planned for this creative class.\n\nAll materials are included.  This is a 4-Week Session Class.
URL:https://www.tagaloo.com/event/sewing-rolling-admission-234
LOCATION:585 Frost Avenue\, Warrenton\, VA\, 20186\, United States
END:VEVENT
END:VCALENDAR