BEGIN:VCALENDAR
VERSION:2.0
PRODID:-//TAGALOO - ECPv4.3.2//NONSGML v1.0//EN
CALSCALE:GREGORIAN
METHOD:PUBLISH
X-WR-CALNAME:TAGALOO
X-ORIGINAL-URL:https://www.tagaloo.com
X-WR-CALDESC:Events for TAGALOO
BEGIN:VEVENT
DTSTART;TZID=America/New_York:20150727T120000
DTEND;TZID=America/New_York:20150727T160059
DTSTAMP:20260425T121149
CREATED:20150210T064908Z
LAST-MODIFIED:20150210T064908Z
UID:3216-1437998400-1438012859@www.tagaloo.com
SUMMARY:Camp Tagaloo
DESCRIPTION:Summer Camp- An extended camp program from 12:00 to 4:00 each day. You provide lunch\, we keep your camper busy and well-cared for the rest of the day!\n\nAll ages welcome
URL:https://www.tagaloo.com/event/camp-tagaloo-77
LOCATION:585 Frost Avenue\, Warrenton\, VA\, 20186\, United States
END:VEVENT
BEGIN:VEVENT
DTSTART;TZID=America/New_York:20150727T130000
DTEND;TZID=America/New_York:20150727T160059
DTSTAMP:20260425T121149
CREATED:20150504T040201Z
LAST-MODIFIED:20150722T205130Z
UID:3620-1438002000-1438012859@www.tagaloo.com
SUMMARY:American Girl Sewing Camp
DESCRIPTION:Come design and sew your very own accessories for your American Girl Doll (or any 18″ doll).  Some items include clothes\, totes\, and bedding.  How fun is it to be a Designer for a week?!\n\n**This camp is limited to 4 students.** This Camp is FULL\n\nThis camp is appropriate for BOYS and GIRLS.\n\nAges 7 and up
URL:https://www.tagaloo.com/event/american-girl-sewing-camp-6
LOCATION:585 Frost Avenue\, Warrenton\, VA\, 20186\, United States
END:VEVENT
END:VCALENDAR